BEGIN:VCALENDAR
VERSION:2.0
PRODID:-//LLAF - ECPv6.14.1//NONSGML v1.0//EN
CALSCALE:GREGORIAN
METHOD:PUBLISH
X-WR-CALNAME:LLAF
X-ORIGINAL-URL:https://lengvoji.lt
X-WR-CALDESC:LLAF renginiai
REFRESH-INTERVAL;VALUE=DURATION:PT1H
X-Robots-Tag:noindex
X-PUBLISHED-TTL:PT1H
BEGIN:VTIMEZONE
TZID:Europe/Vilnius
BEGIN:DAYLIGHT
TZOFFSETFROM:+0200
TZOFFSETTO:+0300
TZNAME:EEST
DTSTART:20260329T010000
END:DAYLIGHT
BEGIN:STANDARD
TZOFFSETFROM:+0300
TZOFFSETTO:+0200
TZNAME:EET
DTSTART:20261025T010000
END:STANDARD
END:VTIMEZONE
BEGIN:VEVENT
DTSTART;VALUE=DATE:20260423
DTEND;VALUE=DATE:20260424
DTSTAMP:20260423T024427
CREATED:20260316T140426Z
LAST-MODIFIED:20260316T140426Z
UID:124451-1776902400-1776988799@lengvoji.lt
SUMMARY:Panevėžio miesto ilgų metimų čempionatas
DESCRIPTION:
URL:https://lengvoji.lt/renginys/panevezio-miesto-ilgu-metimu-cempionatas-5/
LOCATION:Panevėžys
CATEGORIES:Bendri
END:VEVENT
BEGIN:VEVENT
DTSTART;VALUE=DATE:20260423
DTEND;VALUE=DATE:20260424
DTSTAMP:20260423T024427
CREATED:20260316T140645Z
LAST-MODIFIED:20260420T085303Z
UID:124455-1776902400-1776988799@lengvoji.lt
SUMMARY:Sostinės sporto centro kvalifikacinės varžybos
DESCRIPTION:Nuostatai \nPrograma (projektas)
URL:https://lengvoji.lt/renginys/sostines-sporto-centro-kvalifikacines-varzybos-14/
LOCATION:Vilnius
CATEGORIES:Bendri
END:VEVENT
END:VCALENDAR